BEGIN:VCALENDAR
VERSION:2.0
PRODID:-//Fritsch Equipment and Services, LLC - ECPv6.15.20//NONSGML v1.0//EN
CALSCALE:GREGORIAN
METHOD:PUBLISH
X-WR-CALNAME:Fritsch Equipment and Services, LLC
X-ORIGINAL-URL:https://fritschequipment.com
X-WR-CALDESC:Events for Fritsch Equipment and Services, LLC
REFRESH-INTERVAL;VALUE=DURATION:PT1H
X-Robots-Tag:noindex
X-PUBLISHED-TTL:PT1H
BEGIN:VTIMEZONE
TZID:America/Chicago
BEGIN:DAYLIGHT
TZOFFSETFROM:-0600
TZOFFSETTO:-0500
TZNAME:CDT
DTSTART:20240310T080000
END:DAYLIGHT
BEGIN:STANDARD
TZOFFSETFROM:-0500
TZOFFSETTO:-0600
TZNAME:CST
DTSTART:20241103T070000
END:STANDARD
BEGIN:DAYLIGHT
TZOFFSETFROM:-0600
TZOFFSETTO:-0500
TZNAME:CDT
DTSTART:20250309T080000
END:DAYLIGHT
BEGIN:STANDARD
TZOFFSETFROM:-0500
TZOFFSETTO:-0600
TZNAME:CST
DTSTART:20251102T070000
END:STANDARD
BEGIN:DAYLIGHT
TZOFFSETFROM:-0600
TZOFFSETTO:-0500
TZNAME:CDT
DTSTART:20260308T080000
END:DAYLIGHT
BEGIN:STANDARD
TZOFFSETFROM:-0500
TZOFFSETTO:-0600
TZNAME:CST
DTSTART:20261101T070000
END:STANDARD
END:VTIMEZONE
BEGIN:VEVENT
DTSTART;TZID=America/Chicago:20251105T090000
DTEND;TZID=America/Chicago:20251106T160000
DTSTAMP:20260423T101948
CREATED:20250814T205808Z
LAST-MODIFIED:20250814T205808Z
UID:2915-1762333200-1762444800@fritschequipment.com
SUMMARY:AMERICAN DAIRY XPO
DESCRIPTION:Come see us at ADX! \nDetails below are from the official site: https://americandairyxpo.ca/ \n\n\n\n\n\n\nAbout the American Dairy XPO\n\n\n\n\n\n\n\n\nDairy Specific\n\n\n\n\nThe American Dairy XPO will focus on bringing international innovation to American Dairy producers. \n\n\n\n\n\n\n\n\nDairy Education\n\n\n\n\nThe American Dairy XPO will host education sessions targeted to dairy producers to help them learn and advance their operations. \n\n\n\n\n\n\n\n\n\n\n\n\nDairy Networking\n\n\n\n\nThe American Dairy XPO will become a hub for networking within the Dairy industry. It will become a place for old friends to reunite and new producers to meet. \n\n\n\n\n\n\n\n\nDairy Draw\n\n\n\n\nThe American Dairy XPO will host dairy producers from many states neighboring Vermont for this annual event. The immediate producer draw for the first XPO will come from New York\,  Pennsylvania & Quebec. \n\n\n\n\n\n\n\n\nXPO Location\n\n\n\n\nVermont was chosen as the host state for the American Dairy XPO as it is a vibrant destination for Dairy producers\, with neighboring states that are powerhouses in the American dairy industry.
URL:https://fritschequipment.com/event/american-dairy-xpo/
LOCATION:Champlain Valley Exposition\, 105 Pearl St\, Essex Junction\, Vermont\, 05452
CATEGORIES:Farm Show
ATTACH;FMTTYPE=image/png:https://fritschequipment.com/wp-content/uploads/2025/08/ADX-logo.png
END:VEVENT
BEGIN:VEVENT
DTSTART;VALUE=DATE:20250930
DTEND;VALUE=DATE:20251004
DTSTAMP:20260423T101948
CREATED:20241213T134103Z
LAST-MODIFIED:20241213T134103Z
UID:2696-1759190400-1759535999@fritschequipment.com
SUMMARY:World Dairy Expo
DESCRIPTION:The following was taken from: https://worlddairyexpo.com/ \n\n\nTrade Show\nOCTOBER 1 – 4 \nHonored by Trade Show Executive as one of the Top 100 Trade Shows of 2022\, World Dairy Expo hosts the world’s largest dairy-focused Trade Show\, featuring nearly 600 companies from 26 countries. If you’re unable to join us during the event\, exhibitor listings are available year-round and feature company and keyword searchability. \n\n\n\n\nDairy Cattle Show\nSEPTEMBER 29 – OCTOBER 4 \nKnown for its iconic colored shavings and elite competition\, World Dairy Expo is home to a world-class dairy cattle show that features the best cattle in North America. Over 1\,600 dairy cattle exhibitors travel to Madison\, Wisconsin to showcase their genetics and services in the New Holland Pavilions and Cattle Tent and exhibit on the colored shavings. \n\n\n\n\nEducation\nOCTOBER 1 – 4 \nWorld Dairy Expo provides over 50 educational opportunities throughout the week of the event in various topics and formats. Whether you’re looking for the latest and greatest in the industry\, hear from industry experts\, or simply want to learn from fellow producers on what’s working for them\, there is something for everyone.
URL:https://fritschequipment.com/event/world-dairy-expo/
LOCATION:Alliant Energy Center\, 1919 Alliant Energy Center Way\, Madison\, WI\, 53713\, United States
CATEGORIES:Farm Show
ATTACH;FMTTYPE=image/png:https://fritschequipment.com/wp-content/uploads/2024/12/fritsch-equipment-event-logo-300-x-170-px-dairy-expo.png
END:VEVENT
BEGIN:VEVENT
DTSTART;VALUE=DATE:20250805
DTEND;VALUE=DATE:20250808
DTSTAMP:20260423T101948
CREATED:20241213T133542Z
LAST-MODIFIED:20241213T133542Z
UID:2692-1754352000-1754611199@fritschequipment.com
SUMMARY:2025  Wisconsin Farm Technology Days at Clinton Farms
DESCRIPTION:The following is from: https://www.wifarmtechdays.org/ \n2025  Wisconsin Farm Technology Days\nat Clinton Farms\nBear Creek\, Wisconsin\nAugust 5-6-7\, 2025\n\n\n\n\n\n\n\n\n\nClinton Farms is located on State Highway 22 just west of Highway 45 near Bear Creek\, Wisconsin.  It is a 750 cow dairy operation\, now in its fourth generation.  Check out the video on the left to see more about the farm! \nClinton Farms hosted the 25th anniversary show of the old Wisconsin Farm Progress Days in 1978 as well as the very first Wisconsin Farm Technology Days show in 2003. \nBe sure to join us in 2025!
URL:https://fritschequipment.com/event/2025-wisconsin-farm-technology-days-at-clinton-farms/
LOCATION:Clinton Farms\, Bear Creek\, WI\, United States
CATEGORIES:Farm Show
ATTACH;FMTTYPE=image/png:https://fritschequipment.com/wp-content/uploads/2024/12/fritsch-equipment-event-logo-300-x-170-px-wi-farm-tech.png
END:VEVENT
BEGIN:VEVENT
DTSTART;VALUE=DATE:20250401
DTEND;VALUE=DATE:20250404
DTSTAMP:20260423T101948
CREATED:20241213T133215Z
LAST-MODIFIED:20241213T133215Z
UID:2688-1743465600-1743724799@fritschequipment.com
SUMMARY:WPS Farm Show 2025
DESCRIPTION:Info below is from: https://www.wisconsinpublicservice.com/partners/agriculture/farm-show/ \nJoin us April 1-3 in Oshkosh for the 63rd WPS Farm Show\, an opportunity for agricultural businesses and the community to check out the latest in farm equipment\, services and technology from around 400 exhibitors throughout the U.S. and Canada. \nHighlights\n\nThree-day silent auction to benefit the Wisconsin FFA Foundation\nOn-site WPS agricultural consultants to answer energy management questions\nFFA auction held every day in Hangar B\nFree health screenings from UW Oshkosh nursing students and the ThedaCare Rural Health Initiative\nCentrally located food tent offering a wide selection of food and beverages\nKiddie tractor pull Wednesday at 12:30 p.m. (weigh in at noon)\n\n\n\nDates and times\nApril 1: 9 a.m. to 4 p.m.\nApril 2: 9 a.m. to 4 p.m\nApril 3: 9 a.m. to 3 p.m. \n\n\nLocation\nEAA Grounds\n1001 Waukau Ave.\nOshkosh\, WI 54902 \n\n\n\n\nCost\nFree admission\n$5 parking \n\n\nDirections\nTraffic flow \n\n\nExhibitor information\nRequests for exhibit space\, pricing and more \nContact\nEmail: robert.juneau@wisconsinpublicservice.com\nPhone: 920-617-5108\nMail:\nWisconsin Public Service\nAttn: Rob Juneau\nP.O. Box 19001\nGreen Bay\, WI 54307
URL:https://fritschequipment.com/event/wps-farm-show-2025/
LOCATION:EAA Grounds\, EAA Grounds 1001 Waukau Ave.\, Oshkosh\, WI\, 54902\, United States
CATEGORIES:Farm Show
ATTACH;FMTTYPE=image/png:https://fritschequipment.com/wp-content/uploads/2024/12/fritsch-equipment-event-logo-300-x-170-px-wps-farm-show.png
END:VEVENT
BEGIN:VEVENT
DTSTART;VALUE=DATE:20250220
DTEND;VALUE=DATE:20250223
DTSTAMP:20260423T101948
CREATED:20241116T034716Z
LAST-MODIFIED:20241116T041351Z
UID:2607-1740009600-1740268799@fritschequipment.com
SUMMARY:New York Farm Show
DESCRIPTION:
URL:https://fritschequipment.com/event/new-york-farm-show/
LOCATION:New York State Fairgrounds\, 581 State Fair Boulevard\, Syracuse\, CA\, 13209\, United States
CATEGORIES:Farm Show
ATTACH;FMTTYPE=image/png:https://fritschequipment.com/wp-content/uploads/2024/11/fritsch-equipment-event-logo-300-x-170-px-ny-farm-show.png
END:VEVENT
BEGIN:VEVENT
DTSTART;VALUE=DATE:20250212
DTEND;VALUE=DATE:20250216
DTSTAMP:20260423T101948
CREATED:20241114T232416Z
LAST-MODIFIED:20241116T040635Z
UID:2601-1739318400-1739663999@fritschequipment.com
SUMMARY:National Farm Machinery Show
DESCRIPTION:
URL:https://fritschequipment.com/event/national-farm-machinery-show/
LOCATION:Vermont
CATEGORIES:Farm Show
ATTACH;FMTTYPE=image/png:https://fritschequipment.com/wp-content/uploads/2024/11/fritsch-equipment-event-logo-300-x-170-px-nfms.png
END:VEVENT
BEGIN:VEVENT
DTSTART;VALUE=DATE:20250114
DTEND;VALUE=DATE:20250117
DTSTAMP:20260423T101948
CREATED:20241114T232249Z
LAST-MODIFIED:20241114T232249Z
UID:2597-1736812800-1737071999@fritschequipment.com
SUMMARY:Fort Wayne Farm Show
DESCRIPTION:
URL:https://fritschequipment.com/event/fort-wayne-farm-show/
LOCATION:Vermont
CATEGORIES:Farm Show
END:VEVENT
BEGIN:VEVENT
DTSTART;VALUE=DATE:20250107
DTEND;VALUE=DATE:20250110
DTSTAMP:20260423T101948
CREATED:20241114T231702Z
LAST-MODIFIED:20241116T040544Z
UID:2586-1736208000-1736467199@fritschequipment.com
SUMMARY:Keystone Farm Show
DESCRIPTION:
URL:https://fritschequipment.com/event/keystone-farm-show/
LOCATION:York Fairgrounds\, 334 Carlisle Ave\, York\, PA 17404\, 17404\, United States
CATEGORIES:Farm Show
ATTACH;FMTTYPE=image/png:https://fritschequipment.com/wp-content/uploads/2024/11/fritsch-equipment-event-logo-300-x-170-px-keystone.png
END:VEVENT
END:VCALENDAR